BEGIN:VCALENDAR
VERSION:2.0
PRODID:-//Charlotte Business Group - ECPv6.10.1.1//NONSGML v1.0//EN
CALSCALE:GREGORIAN
METHOD:PUBLISH
X-WR-CALNAME:Charlotte Business Group
X-ORIGINAL-URL:https://cbgnetworks.com
X-WR-CALDESC:Events for Charlotte Business Group
REFRESH-INTERVAL;VALUE=DURATION:PT1H
X-Robots-Tag:noindex
X-PUBLISHED-TTL:PT1H
BEGIN:VTIMEZONE
TZID:UTC
BEGIN:STANDARD
TZOFFSETFROM:+0000
TZOFFSETTO:+0000
TZNAME:UTC
DTSTART:20260101T000000
END:STANDARD
END:VTIMEZONE
BEGIN:VEVENT
DTSTART;TZID=UTC:20260410T080000
DTEND;TZID=UTC:20260410T093000
DTSTAMP:20260423T172731
CREATED:20260330T202924Z
LAST-MODIFIED:20260331T012423Z
UID:1032-1775808000-1775813400@cbgnetworks.com
SUMMARY:Coffee & Connections
DESCRIPTION:**New Location at Summit Coffee Wilmore!**Join us for Coffee and Conversation with Charlotte Business Group Members and Guests. Make some new connections! Limited space\, registration required. Members and Non-Members are welcomed to this networking event. Event is free for Charlotte Business Group members. For more information on becoming a CBG member please click here or reach out to Kristin Ratliff at hello@cltbusinessgroup.com.
URL:https://cbgnetworks.com/event/coffee-connections-3/
LOCATION:Summit Coffee Wilmore\, 536 West Tremont Avenue\, #102\, Charlotte\, NC\, 28203\, United States
CATEGORIES:Charlotte Region
ATTACH;FMTTYPE=image/jpeg:https://cbgnetworks.com/wp-content/uploads/2025/01/coffee-conversation-march.jpg
END:VEVENT
BEGIN:VEVENT
DTSTART;TZID=UTC:20260430T173000
DTEND;TZID=UTC:20260430T200000
DTSTAMP:20260423T172731
CREATED:20260422T171628Z
LAST-MODIFIED:20260422T171804Z
UID:1651-1777570200-1777579200@cbgnetworks.com
SUMMARY:CBG Exclusive Networking Event at Charlotte Beer Garden
DESCRIPTION:Join us for an exclusive Networking Happy Hour at Charlotte Beer Garden! 🍻Mingle with Charlotte’s top professionals at the world’s largest draft beer selection. Whether you’re looking to expand your network\, forge new business relationships\, or simply connect with the Queen City’s movers and shakers\, this is the must-attend event of the season. We are taking over the Charlotte Beer Garden in South End for an evening of authentic\, organic networking. No formal speakers\, no forced agendas—just the city’s best professionals building real relationships in a high-energy environment.
URL:https://cbgnetworks.com/event/cbg-exclusive-networking-event-at-charlotte-beer-garden/
LOCATION:Charlotte Beer Garden\, 1300 South Tryon Street\, Charlotte\, NC\, 28203\, United States
CATEGORIES:Charlotte Region
ATTACH;FMTTYPE=image/jpeg:https://cbgnetworks.com/wp-content/uploads/2026/04/cbg_april2026.jpg
END:VEVENT
BEGIN:VEVENT
DTSTART;TZID=UTC:20260501T080000
DTEND;TZID=UTC:20260501T093000
DTSTAMP:20260423T172731
CREATED:20241123T062814Z
LAST-MODIFIED:20260331T012933Z
UID:101-1777622400-1777627800@cbgnetworks.com
SUMMARY:Coffee & Connections
DESCRIPTION:**New Location at Summit Coffee Wilmore!**Join us for Coffee and Conversation with Charlotte Business Group Members and Guests. Make some new connections! Limited space\, registration required. Members and Non-Members are welcomed to this networking event. Event is free for Charlotte Business Group members. For more information on becoming a CBG member please click here or reach out to Kristin Ratliff at hello@cltbusinessgroup.com.
URL:https://cbgnetworks.com/event/coffee-connections/
LOCATION:Summit Coffee Wilmore\, 536 West Tremont Avenue\, #102\, Charlotte\, NC\, 28203\, United States
CATEGORIES:Charlotte Region
ATTACH;FMTTYPE=image/jpeg:https://cbgnetworks.com/wp-content/uploads/2024/11/coffee-conversation-jan.jpg
END:VEVENT
BEGIN:VEVENT
DTSTART;TZID=UTC:20260605T080000
DTEND;TZID=UTC:20260605T093000
DTSTAMP:20260423T172731
CREATED:20250116T202714Z
LAST-MODIFIED:20260331T012907Z
UID:1028-1780646400-1780651800@cbgnetworks.com
SUMMARY:Coffee & Connections
DESCRIPTION:**New Location at Summit Coffee Wilmore!**Join us for Coffee and Connections with Charlotte Business Group Members and Guests. Make some new connections! Limited space\, registration required. Members and Non-Members are welcomed to this networking event. Event is free for Charlotte Business Group members. For more information on becoming a CBG member please click here or reach out to Kristin Ratliff at hello@cltbusinessgroup.com.
URL:https://cbgnetworks.com/event/coffee-connections-2/
LOCATION:Summit Coffee Wilmore\, 536 West Tremont Avenue\, #102\, Charlotte\, NC\, 28203\, United States
CATEGORIES:Charlotte Region
ATTACH;FMTTYPE=image/jpeg:https://cbgnetworks.com/wp-content/uploads/2025/01/coffee-conversation-april.jpg
END:VEVENT
END:VCALENDAR