BEGIN:VCALENDAR
VERSION:2.0
PRODID:-//Charlotte Business Group - ECPv6.10.1.1//NONSGML v1.0//EN
CALSCALE:GREGORIAN
METHOD:PUBLISH
X-WR-CALNAME:Charlotte Business Group
X-ORIGINAL-URL:https://cbgnetworks.com
X-WR-CALDESC:Events for Charlotte Business Group
REFRESH-INTERVAL;VALUE=DURATION:PT1H
X-Robots-Tag:noindex
X-PUBLISHED-TTL:PT1H
BEGIN:VTIMEZONE
TZID:UTC
BEGIN:STANDARD
TZOFFSETFROM:+0000
TZOFFSETTO:+0000
TZNAME:UTC
DTSTART:20250101T000000
END:STANDARD
END:VTIMEZONE
BEGIN:VEVENT
DTSTART;TZID=UTC:20250828T173000
DTEND;TZID=UTC:20250828T203000
DTSTAMP:20260423T101610
CREATED:20250825T164945Z
LAST-MODIFIED:20250825T164945Z
UID:1516-1756402200-1756413000@cbgnetworks.com
SUMMARY:End of Summer Networking Social
DESCRIPTION:Wrap up summer with meaningful connections! Join Charlotte Business Group for an exclusive End of Summer Networking Social at Sullivan’s Steakhouse. This is your chance to connect with Charlotte’s top professionals\, entrepreneurs\, and community leaders in a relaxed and vibrant atmosphere. Enjoy refreshing cocktails\, light bites\, and engaging conversations that could spark your next big opportunity. Whether you’re building new relationships or strengthening existing ones\, this event is the perfect way to send off summer in style. Why Attend: Expand your professional networkExchange ideas and collaborate with like-minded individualsCelebrate the close of summer with great food\, drinks\, and company✨ Space is limited — secure your spot today and be part of this end-of-season celebration!Join as a CBG Member and get into this event FREE as part of your benefits. Drinks not included in ticket price.
URL:https://cbgnetworks.com/event/end-of-summer-networking-social/
LOCATION:Sullivan’s Steakhouse\, 1928 South Blvd #200\, Charlotte\, North Carolina\, 28203
CATEGORIES:Charlotte Region
ATTACH;FMTTYPE=image/png:https://cbgnetworks.com/wp-content/uploads/2025/08/august-cbg-event.png
END:VEVENT
END:VCALENDAR