BEGIN:VCALENDAR
VERSION:2.0
PRODID:-//Charlotte Business Group - ECPv6.10.1.1//NONSGML v1.0//EN
CALSCALE:GREGORIAN
METHOD:PUBLISH
X-WR-CALNAME:Charlotte Business Group
X-ORIGINAL-URL:https://cbgnetworks.com
X-WR-CALDESC:Events for Charlotte Business Group
REFRESH-INTERVAL;VALUE=DURATION:PT1H
X-Robots-Tag:noindex
X-PUBLISHED-TTL:PT1H
BEGIN:VTIMEZONE
TZID:UTC
BEGIN:STANDARD
TZOFFSETFROM:+0000
TZOFFSETTO:+0000
TZNAME:UTC
DTSTART:20250101T000000
END:STANDARD
END:VTIMEZONE
BEGIN:VEVENT
DTSTART;TZID=UTC:20250815T220000
DTEND;TZID=UTC:20250816T030000
DTSTAMP:20260423T101714
CREATED:20250807T194206Z
LAST-MODIFIED:20250807T195014Z
UID:1500-1755295200-1755313200@cbgnetworks.com
SUMMARY:2025 PFL World Tournament 9: Finals
DESCRIPTION:Doors: 5:30pm. First Fight: 6:00pmOn Friday\, August 15\, PFL makes its Charlotte\, North Carolina debut at the Bojangles Coliseum for the 2025 PFL World Tournament 9: Finals featuring PFL World Tournament Women’s Flyweight and Men’s Bantamweight Championship contests. The event will be televised in the US on ESPN and ESPN+ and internationally on DAZN with doors opening at 5:30 PM ET.
URL:https://cbgnetworks.com/event/2025-pfl-world-tournament-9-finals/
LOCATION:Bojangles Coliseum\, 2700 E Independence Boulevard\, Charlotte\, NC\, 28205\, United States
CATEGORIES:Charlotte Region
ATTACH;FMTTYPE=image/jpeg:https://cbgnetworks.com/wp-content/uploads/2025/08/900x600.jpg
END:VEVENT
END:VCALENDAR