BEGIN:VCALENDAR
VERSION:2.0
PRODID:-//Charlotte Business Group - ECPv6.10.1.1//NONSGML v1.0//EN
CALSCALE:GREGORIAN
METHOD:PUBLISH
X-WR-CALNAME:Charlotte Business Group
X-ORIGINAL-URL:https://cbgnetworks.com
X-WR-CALDESC:Events for Charlotte Business Group
REFRESH-INTERVAL;VALUE=DURATION:PT1H
X-Robots-Tag:noindex
X-PUBLISHED-TTL:PT1H
BEGIN:VTIMEZONE
TZID:UTC
BEGIN:STANDARD
TZOFFSETFROM:+0000
TZOFFSETTO:+0000
TZNAME:UTC
DTSTART:20250101T000000
END:STANDARD
END:VTIMEZONE
BEGIN:VEVENT
DTSTART;TZID=UTC:20250619T170000
DTEND;TZID=UTC:20250619T200000
DTSTAMP:20260423T123508
CREATED:20250602T225752Z
LAST-MODIFIED:20250610T011705Z
UID:1404-1750352400-1750363200@cbgnetworks.com
SUMMARY:Exclusive Networking Happy Hour at Tipsy Pickle
DESCRIPTION:🎉 Join Charlotte Business Group for an exclusive networking Happy Hour at Tipsy Pickle – Charlotte’s premier eatertainment complex! 🥂✨ Enjoy networking\, appetizers\, pool tables\, and a golf simulator while making great connections in a fun\, relaxed setting. 🎱⛳ 🏓 Want to play pickleball? Courts are available before or after the event — just note that pickleball is not included in the event ticket and must be booked separately. 🎟️ Space is limited — don’t miss out! 🏗️ Event sponsored by Nance Construction.
URL:https://cbgnetworks.com/event/exclusive-networking-happy-hour-at-tipsy-pickle/
LOCATION:Tipsy Pickle\, 201 Camp Rd #120\, Charlotte\, NC\, 28203\, United States
CATEGORIES:Charlotte Region
ATTACH;FMTTYPE=image/png:https://cbgnetworks.com/wp-content/uploads/2025/06/june-cbg-pickleball-event-1.png
END:VEVENT
END:VCALENDAR