BEGIN:VCALENDAR
VERSION:2.0
PRODID:-//Charlotte Business Group - ECPv6.10.1.1//NONSGML v1.0//EN
CALSCALE:GREGORIAN
METHOD:PUBLISH
X-ORIGINAL-URL:https://cbgnetworks.com
X-WR-CALDESC:Events for Charlotte Business Group
REFRESH-INTERVAL;VALUE=DURATION:PT1H
X-Robots-Tag:noindex
X-PUBLISHED-TTL:PT1H
BEGIN:VTIMEZONE
TZID:UTC
BEGIN:STANDARD
TZOFFSETFROM:+0000
TZOFFSETTO:+0000
TZNAME:UTC
DTSTART:20250101T000000
END:STANDARD
END:VTIMEZONE
BEGIN:VEVENT
DTSTART;TZID=UTC:20250604T180000
DTEND;TZID=UTC:20250604T203000
DTSTAMP:20260423T123720
CREATED:20250602T220849Z
LAST-MODIFIED:20250602T222439Z
UID:1396-1749060000-1749069000@cbgnetworks.com
SUMMARY:Namaste for a Cause
DESCRIPTION:Join us for a relaxing evening of yoga\, craft beer\, and community — all in support of the Leukemia & Lymphoma Society ❤️💸 $25 minimum donation🍺 Triple C is graciously donating $1 from each flagship craft beer sold to LLS🎟️ Raffles + feel-good vibes all nightClass will be led by Lura Lauer\, a Charlotte native\, mom of 2\, and passionate YTT-certified instructor who’s excited to help you challenge yourself physically\, mentally\, and mindfully.All proceeds support the Leukemia & Lymphoma Society through Visionaries of the Year 💪Let’s flow\, sip\, and support together 🙏➡️ Click the link below to rsvp & donate — and be sure to comment “Yoga” with your donation!
URL:https://cbgnetworks.com/event/namaste-for-a-cause/
LOCATION:Triple C Brewing\, 2900 Griffith Street\, Charlotte\, NC\, 28203\, United States
CATEGORIES:Charlotte Region
ATTACH;FMTTYPE=image/png:https://cbgnetworks.com/wp-content/uploads/2025/06/namaste-flyer.png
END:VEVENT
END:VCALENDAR