BEGIN:VCALENDAR
VERSION:2.0
PRODID:-//Charlotte Business Group - ECPv6.10.1.1//NONSGML v1.0//EN
CALSCALE:GREGORIAN
METHOD:PUBLISH
X-ORIGINAL-URL:https://cbgnetworks.com
X-WR-CALDESC:Events for Charlotte Business Group
REFRESH-INTERVAL;VALUE=DURATION:PT1H
X-Robots-Tag:noindex
X-PUBLISHED-TTL:PT1H
BEGIN:VTIMEZONE
TZID:UTC
BEGIN:STANDARD
TZOFFSETFROM:+0000
TZOFFSETTO:+0000
TZNAME:UTC
DTSTART:20250101T000000
END:STANDARD
END:VTIMEZONE
BEGIN:VEVENT
DTSTART;TZID=UTC:20250514T170000
DTEND;TZID=UTC:20250514T220000
DTSTAMP:20260423T141246
CREATED:20250507T204139Z
LAST-MODIFIED:20250507T204503Z
UID:1384-1747242000-1747260000@cbgnetworks.com
SUMMARY:Queen City Clappers Cup
DESCRIPTION:Join WeGo Golf and Elevate Lifestyle for the Queen City Clappers Cup brought to you by Drink Delta and RNG Golf Club on Wednesday\, May 14 at Norfolk Hall in South End. Presented by The Happy Camper and NeverMissed. We are happy to partner up with The First Tee of Greater Charlotte who will receive proceeds from this event.EVENT HIGHLIGHTS 🏌️‍♂️ WEGO Golf: The ultimate mobile golf experience that brings the excitement of the fairway to you\, their cutting-edge mobile golf simulators will turn Norfolk Hall into a world-class golf destination. Enjoy a one-of-a-kind classic golf challenges\, all ages and skills are welcome. ⛳ Putting Green Challenge: Test your precision and finesse on WeGo Golfs putting green for a shot at premium prizes. 🍹 Signature Craft Cocktails: Cocktails curated to showcase the depth and complexity of our sponsored spirits. 🛍️ Lifestyle Vendors: Ranging from Golf Centric\, Real Estate\, Health & Fitness\, Fashion & Beauty\, and Home Improvement Businesses. 🌟 Ultra VIP Lounge: With spirits tasting from our sponsor spirits brands and catered food from Suffolk Punch. 💰 Raffle Prizes: From Charlotte’s area retailers and businesses. 🎶 DJ Experience: Enjoy a curated mix of sounds delivered by DJ Dhurl and creating an ambiance for you to enjoy a sip to. $10\,000 HOLE-IN-ONE CHALLENGE by The Happy Camper
URL:https://cbgnetworks.com/event/queen-city-clappers-cup/
LOCATION:Norfolk Hall\, 2905 Griffith Street\, Charlotte\, NC\, 28203\, United States
CATEGORIES:Charlotte Region
ATTACH;FMTTYPE=image/png:https://cbgnetworks.com/wp-content/uploads/2025/05/clappers-cup.png
END:VEVENT
END:VCALENDAR