BEGIN:VCALENDAR
VERSION:2.0
PRODID:-//Charlotte Business Group - ECPv6.10.1.1//NONSGML v1.0//EN
CALSCALE:GREGORIAN
METHOD:PUBLISH
X-WR-CALNAME:Charlotte Business Group
X-ORIGINAL-URL:https://cbgnetworks.com
X-WR-CALDESC:Events for Charlotte Business Group
REFRESH-INTERVAL;VALUE=DURATION:PT1H
X-Robots-Tag:noindex
X-PUBLISHED-TTL:PT1H
BEGIN:VTIMEZONE
TZID:UTC
BEGIN:STANDARD
TZOFFSETFROM:+0000
TZOFFSETTO:+0000
TZNAME:UTC
DTSTART:20250101T000000
END:STANDARD
END:VTIMEZONE
BEGIN:VEVENT
DTSTART;TZID=UTC:20250212T180000
DTEND;TZID=UTC:20250212T200000
DTSTAMP:20260423T183725
CREATED:20250114T002718Z
LAST-MODIFIED:20250120T211454Z
UID:1003-1739383200-1739390400@cbgnetworks.com
SUMMARY:Galentine's Women In Business Networking Event
DESCRIPTION:✨ Celebrate\, Connect\, and Collaborate ✨ Calling all fabulous women in business! This Galentine’s\, let’s come together to celebrate each other’s achievements\, spark meaningful connections\, and empower our ambitions. Enjoy an evening filled with:? Inspiring conversations? Networking opportunities? Champagne Sipping & Shopping Whether you’re an entrepreneur\, a leader\, or just getting started in your business journey\, this event is the perfect chance to build your network\, share your story\, and gain insights from other like-minded women. Bring your business cards and your best Galentine’s vibes! Let’s create a community of unstoppable women lifting each other up. Questions? Contact Us: hello@cltbusinessgroup.com
URL:https://cbgnetworks.com/event/galentines-women-in-business-networking-event/
LOCATION:Magnolia Bridal\, 1200 Kenil Worth Ave\, Charlotte\, NC\, 28204\, United States
CATEGORIES:Charlotte Region
ATTACH;FMTTYPE=image/png:https://cbgnetworks.com/wp-content/uploads/2025/01/CBG_Galentines_Event_post.png
END:VEVENT
END:VCALENDAR